Workbook

Sheet (필동)활용동의서
A1: 굿네이버스 경기서부지부 유아나눔교육컨텐츠 재능기부 개인정보동의서
A3: 굿네이버스 경기서부지부 유아나눔교육컨텐츠 재능기부 신청을 위해 다음 개인정보 수집·이용에 대한 내용을 상세히 읽어 보신 후 동의 여부를 결정하여 주시기 바랍니다.
A7: 1. 개인정보 수집, 이용내역(필수항목)
A8: 수집목적 | D8: 수집항목 | G8: 보유기간
A9: 본인 식별 확인 | D9: 성명, 성별, 생년월일, 연락처 주소, 사진, VMS 아이디, 자원봉사경험, 봉사가능 시간, 기타등등 | G9: 동아리 활동 종료 후 5년
A10: 유아나눔교육컨텐츠 재능기부 신청서 작성 및 수정
A11: 유아나눔교육컨텐츠 재능기부 활동 진행
A12: 봉사자 연락처 및 자격확인
A13: 봉사활동 중 인사관리
A15: ※ 귀하는 위와 같이 개인정보를 수집·이용하는데 동의를 거부할 권리가 있습니다. 그러나 동의를 거부할 경우 본 재능기부 활동 신청 및 활동에 제한이 있을 수 있습니다.
A18: 위와 같이 개인정보 수집 및 이용에 동의하십니까? □ 동의 □ 미동의
A22: 2. 개인정보 수집, 이용 내역(선택항목)
A23: 수집목적 | D23: 수집항목 | G23: 보유기간 | J23: 보유기간
A24: 교육, 훈련 정보 제공 | D24: E-mail | G24: 개인정보보호법 제 15조 1항 | J24: 활동 종료 후 5년
A25: 활동자격 확인 및 우대 | D25: 전공, 최종학력, 직업 및 소속
A26: 굿네이버스 활동, 이번트 소식제공 | D26: 성명, E-mail, 연락처 | J26: 개인정보 수집 및 이용에 대한 동의 후 동희 철회 시까지
A28: ※ 귀하는 위와 같이 개인정보를 수집·이용하는데 동의를 거부할 권리가 있습니다. 그러나 동의를 거부할 경우 본 재능기부 활동 신청 및 활동에 제한이 있을 수 있습니다.
A31: 위와 같이 개인정보 수집 및 이용에 동의하십니까? □ 동의 □ 미동의
A34: 년 월 일 성명 : (인 또는 서명)

Sheet 이력서 및 자기소개서
A1: 유아나눔교육컨텐츠 재능기부 신청서
A2: 사 진 (최근 3개월 촬영) | E2: 성명 | G2: (한글)
G3: (영문)
E4: 생년월일 | O4: 성 별
E5: 주소
E6: 연락처 | G6: (휴대폰) | M6: 이메일
G7: (비상연락망)
A8: 확인사항 | G8: 학교명 | L8: 학과명 | O8: 학년 | R8: 나이
A10: VMS 아이디
A11: 활동경력 | G11: 활동기간 | M11: 활동처 | O11: 직위 | R11: 담당업무
A17: 자기소개서
A18: 1. 지원동기에 대해 작성해주세요.
A26: 모집공고 접촉경로
A27: 본인은 굿네이버스 경기서부지부에서 진행하는 유아나눔교육컨텐츠 재능기부에 활동하고자 지원합니다.
A28: 본인은 앞선 개인정보활용 동의서를 숙지하였으며, 동의서에 명시된 개인정보를 제공하고 활용하는 것에 동의합니다. (제공/활용에 동의하지 않으실 경우, 귀하의 모집 진행이 불가하다는 점을 유념하시기 바랍니다.) | R28: 예 / 아니오
A29: 위 사항은 모두 본인이 직접 작성하였으며, 사실과 다름 없음을 서약하며 제출합니다. (최종 합격 후 위 사항이 허위로 밝혀졌을 시에 활동이 취소 될 수 있습니다.) | R29: 지원자 : | T29: (성명 기입)

Sheet 자료취합용(삭제및수정금지)
A2: * 이 시트는 굿네이버스에서 지원자의 정보를 효율적으로 취합하기 위하여 제작한 것이므로 임의 삭제 또는 변경 하지 마시기 바랍니다.
A3: 성명 | B3: 희망지역1 | C3: 희망지역2 | D3: 주민번호 | E3: 성별 | F3: 연령 | G3: 주소 | H3: 연락처1 | I3: 연락처2 | J3: e-mail | K3: SNS | L3: 장애 | M3: 등급 | N3: 보훈 | O3: 종류 | P3: 고등학교 | Q3: 학력 | R3: 전공 | S3: 구분 | T3: 소재지 | U3: 전문대명 | V3: 학력 | W3: 전공 | X3: 구분 | Y3: 본교/분교 | Z3: 학점(본인) | AA3: 학점(만점) | AB3: 소재지 | AC3: 대학교1 | AD3: 학력 | AE3: 전공 | AF3: 구분 | AG3: 본교/분교 | AH3: 학점(본인) | AI3: 학점(만점) | AJ3: 소재지 | AK3: 대학교2 | AL3: 학력 | AM3: 전공 | AN3: 구분 | AO3: 본교/분교 | AP3: 학점(본인) | AQ3: 학점(만점) | AR3: 소재지 | AS3: 대학원1 | AT3: 학력 | AU3: 전공 | AV3: 구분 | AW3: 본교/분교 | AX3: 학점(본인) | AY3: 학점(만점) | AZ3: 소재지 | BA3: 대학원2 | BB3: 학력 | BC3: 전공 | BD3: 구분 | BE3: 본교/분교 | BF3: 학점(본인) | BG3: 학점(만점) | BH3: 소재지 | BI3: 외국어1 | BJ3: 회화 | BK3: 작문 | BL3: 공인시험 | BM3: 점수 | BN3: 국가 | BO3: 외국어2 | BP3: 회화 | BQ3: 작문 | BR3: 공인시험 | BS3: 점수 | BT3: 국가 | BU3: 외국어3 | BV3: 회화 | BW3: 작문 | BX3: 공인시험 | BY3: 점수 | BZ3: 국가 | CA3: 운전면허증 | CB3: 사회복지사 | CC3: 자격면허3 | CD3: 자격면허4 | CE3: 군필여부 | CF3: 기간1 | CG3: 기간2 | CH3: 병역면제사유 | CI3: 종교 | CJ3: 취미/특기 | CK3: Gnvol | CL3: 대학생동아리 | CM3: 기타 | CN3: 지원경로 | CO3: 중대질병 | CP3: 본인작성 | CQ3: 보관동의
A4: ='이력서 및 자기소개서'!I2 -> 0 | B4: ='이력서 및 자기소개서'!Q2 -> 0 | C4: ='이력서 및 자기소개서'!Q3 -> 0 | D4: ='이력서 및 자기소개서'!G4 -> 0 | E4: ='이력서 및 자기소개서'!P4 -> 0 | F4: ='이력서 및 자기소개서'!T4 -> 0 | G4: ='이력서 및 자기소개서'!G5 -> 0 | H4: ='이력서 및 자기소개서'!I6 -> 0 | I4: ='이력서 및 자기소개서'!I7 -> 0 | J4: ='이력서 및 자기소개서'!O6 -> 0 | K4: ='이력서 및 자기소개서'!O7 -> 0 | L4: ='이력서 및 자기소개서'!S6 -> 0 | M4: ='이력서 및 자기소개서'!U6 -> 0 | N4: ='이력서 및 자기소개서'!S7 -> 0 | O4: ='이력서 및 자기소개서'!U7 -> 0 | P4: ='이력서 및 자기소개서'!G9 -> 0 | Q4: ='이력서 및 자기소개서'!L9 -> 0 | R4: ='이력서 및 자기소개서'!M9 -> 0 | S4: ='이력서 및 자기소개서'!O9 -> 0 | T4: ='이력서 및 자기소개서'!T9 -> 0 | U4: ='이력서 및 자기소개서'!#REF! -> #REF! | V4: ='이력서 및 자기소개서'!#REF! -> #REF! | W4: ='이력서 및 자기소개서'!#REF! -> #REF! | X4: ='이력서 및 자기소개서'!#REF! -> #REF! | Y4: ='이력서 및 자기소개서'!#REF! -> #REF! | Z4: ='이력서 및 자기소개서'!#REF! -> #REF! | AA4: ='이력서 및 자기소개서'!#REF! -> #REF! | AB4: ='이력서 및 자기소개서'!#REF! -> #REF! | ... CM4: ='이력서 및 자기소개서'!#REF! -> #REF! | CN4: ='이력서 및 자기소개서'!C26 -> 0 | CO4: ='이력서 및 자기소개서'!S27 -> 0 | CP4: ='이력서 및 자기소개서'!S28 -> 0 | CQ4: ='이력서 및 자기소개서'!R29 -> 지원자 :
